BEGIN:VCALENDAR
VERSION:2.0
PRODID:-//Center for Governance and Markets - ECPv6.15.11//NONSGML v1.0//EN
CALSCALE:GREGORIAN
METHOD:PUBLISH
X-WR-CALNAME:Center for Governance and Markets
X-ORIGINAL-URL:https://cgm.pitt.edu
X-WR-CALDESC:Events for Center for Governance and Markets
REFRESH-INTERVAL;VALUE=DURATION:PT1H
X-Robots-Tag:noindex
X-PUBLISHED-TTL:PT1H
BEGIN:VTIMEZONE
TZID:America/New_York
BEGIN:DAYLIGHT
TZOFFSETFROM:-0500
TZOFFSETTO:-0400
TZNAME:EDT
DTSTART:20230312T070000
END:DAYLIGHT
BEGIN:STANDARD
TZOFFSETFROM:-0400
TZOFFSETTO:-0500
TZNAME:EST
DTSTART:20231105T060000
END:STANDARD
BEGIN:DAYLIGHT
TZOFFSETFROM:-0500
TZOFFSETTO:-0400
TZNAME:EDT
DTSTART:20240310T070000
END:DAYLIGHT
BEGIN:STANDARD
TZOFFSETFROM:-0400
TZOFFSETTO:-0500
TZNAME:EST
DTSTART:20241103T060000
END:STANDARD
BEGIN:DAYLIGHT
TZOFFSETFROM:-0500
TZOFFSETTO:-0400
TZNAME:EDT
DTSTART:20250309T070000
END:DAYLIGHT
BEGIN:STANDARD
TZOFFSETFROM:-0400
TZOFFSETTO:-0500
TZNAME:EST
DTSTART:20251102T060000
END:STANDARD
END:VTIMEZONE
BEGIN:VEVENT
DTSTART;VALUE=DATE:20240912
DTEND;VALUE=DATE:20240914
DTSTAMP:20260419T120032
CREATED:20240821T053201Z
LAST-MODIFIED:20251015T124251Z
UID:637-1726099200-1726271999@cgm.pitt.edu
SUMMARY:Workshop: Local Governance and the Path to Peace in Myanmar
DESCRIPTION:Date: September 12-13\, 2024 \nLocation: Center for Governance and Markets\, University of Pittsburgh \nJoin us for a critical workshop titled “Local Governance and the Path to Peace in Myanmar\,” organized by the Center for Governance and Markets at the University of Pittsburgh. This event is a timely response to the rapidly evolving situation in Myanmar\, aiming to foster discussions and strategies for resolving long-standing conflicts and building trust among diverse ethnic and regional groups in the country. \nWorkshop Overview: \nThis workshop will bring together scholars\, practitioners\, and civil society leaders\, along with US-based academics and political scientists\, to exchange experiences and strategies for tackling local challenges and fostering trust across ethnic and regional divides. The discussions will focus on alternative governance arrangements developed by civil society groups in Myanmar\, with particular attention to: \n\nGovernance and Conflict Resolution: Exploring innovative governance models and strategies that address the root causes of conflicts in Myanmar.\nRegional Stability: Analyzing the role of local governance in promoting regional stability and democratic governance.\nPublic Service Delivery: Discussing the organization of representation and public service delivery at local\, regional\, and national levels.\n\nWhy Attend? \nThe participation of ‘on the ground’ stakeholders from Myanmar is crucial for the success of this workshop. Their insights will significantly contribute to academic research and policy recommendations related to governance\, conflict resolution\, and regional stability. This event offers a unique opportunity to engage with experts and practitioners working towards peace and stability in Myanmar\, making it a must-attend for anyone invested in these issues. \nContact: \nFor more information\, please contact the Center for Governance and Markets at (412) 648-7394 or info@cgm.pitt.edu.
URL:https://cgm.pitt.edu/event/workshop-peace-myanmar-2024/
LOCATION:PA
ATTACH;FMTTYPE=image/png:https://cgm.pitt.edu/wp-content/uploads/2024/08/myanmar-workshop.png
END:VEVENT
BEGIN:VEVENT
DTSTART;TZID=America/New_York:20240917T090000
DTEND;TZID=America/New_York:20240917T100000
DTSTAMP:20260419T120032
CREATED:20241007T145214Z
LAST-MODIFIED:20251106T161618Z
UID:660-1726563600-1726567200@cgm.pitt.edu
SUMMARY:Enforcing Boundaries: China's Overseas NGO Law and Operational Constraints for Global Civil Society
DESCRIPTION:Meng Ye\, Georgia State University & Andrew Heiss\, Georgia State University \nChina’s 2016 Overseas NGO (ONGO) Law is part of a larger global trend of increased legal restrictions on international nongovernmental organizations (INGOs). A growing body of research analyzes the broad effects of this crackdown on INGOs\, finding a divergence in formal de jure laws and the de facto implementation of those laws. The causes and mechanisms of this divergence remain less explored. \nIn a recent paper authored by Meng Ye and Andrew Heiss\, they use the case of China to explore how political demands to both restrict and embrace INGOs have shaped the international nonprofit sector in the five years since the ONGO Law came into effect. They argue that to bolster regime stability\, governments use civil society laws as policy tools to influence INGO behavior. They test this argument through Bayesian analysis of administrative data from all formally registered INGOs\, complemented by a comparative case study of two environmental INGOs. They find that INGO issue areas\, missions\, and pre-existing relationships with local government officials influence the degree of operating space available for INGOs. Their findings offer insights into the practical effects of INGO restrictions and the dynamics of closing civic space worldwide. \n 
URL:https://cgm.pitt.edu/event/enforcing-boundaries-china/
LOCATION:PA
ATTACH;FMTTYPE=image/png:https://cgm.pitt.edu/wp-content/uploads/2024/10/enforce-china.png
END:VEVENT
BEGIN:VEVENT
DTSTART;VALUE=DATE:20240918
DTEND;VALUE=DATE:20240919
DTSTAMP:20260419T120032
CREATED:20240821T080614Z
LAST-MODIFIED:20251015T144640Z
UID:641-1726617600-1726703999@cgm.pitt.edu
SUMMARY:WINIR 2024 Young Scholars Pre-Conference Workshop
DESCRIPTION:Date: September 18\, 2024 \nLocation: Pittsburgh\, PA\, USA \nThe WINIR 2024 Young Scholars Pre-Conference Workshop on Bridging Divides will be hosted at the Center for Governance and Markets (CGM) at the University of Pittsburgh. This workshop is designed to support emerging scholars by providing them with a platform to present their research\, receive feedback from experienced academics\, and engage in discussions that explore how institutional theory can help societies with deep cultural and political differences coexist peacefully and thrive. \nWorkshop Focus: \nThis year’s workshop will delve into the complexities of bridging divides within societies\, focusing on institutional frameworks that promote peaceful coexistence and the resolution of deep-rooted conflicts. Young scholars will present papers that offer fresh perspectives on how institutions can be leveraged to foster social cohesion\, reduce tensions\, and build inclusive governance structures. \nWhy Attend? \nGuidance and Mentorship: Participants will benefit from direct engagement with senior scholars who will provide valuable insights and guidance to help refine their research.\nNetworking Opportunities: The workshop offers a unique chance to connect with peers and established scholars\, building relationships that can support future research collaborations.\nPresentation Experience: Young scholars will have the opportunity to present their work in a supportive environment\, gaining critical feedback that can enhance their research. \nImportant Information: \nThis workshop is a prelude to the Ninth WINIR Conference on Institutional Resilience and Recovery\, offering young scholars an early opportunity to engage with the conference theme and broader institutional research community. \nFor more details about the workshop and how to participate\, please visit the official WINIR Young Scholars Workshop page.
URL:https://cgm.pitt.edu/event/winir-2024-young-pre-conference-workshop/
LOCATION:PA
ATTACH;FMTTYPE=image/png:https://cgm.pitt.edu/wp-content/uploads/2024/08/rust-pitts.png
END:VEVENT
BEGIN:VEVENT
DTSTART;TZID=America/New_York:20240918T150000
DTEND;TZID=America/New_York:20240918T170000
DTSTAMP:20260419T120032
CREATED:20241007T153425Z
LAST-MODIFIED:20251013T175639Z
UID:670-1726671600-1726678800@cgm.pitt.edu
SUMMARY:Back Roads and Better Angels: A Journey Into the Heart of American Democracy
DESCRIPTION:Frank Barry \nThe Center for Governance and Markets is hosting a special event featuring Bloomberg Opinion columnist Frank Barry. He will discuss his new book\, Back Roads and Better Angels: A Journey Into the Heart of American Democracy\, which explores America’s deep political and cultural divides through a reflective journey along the Lincoln Highway. By engaging with everyday citizens\, Barry uncovers personal stories that offer insights into how Americans can find common ground. Kristin Kanthak\, Associate Professor in the Department of Political Science at the University of Pittsburgh\, will provide commentary. \n 
URL:https://cgm.pitt.edu/event/back-road-american-democracy/
LOCATION:Barco Law Building\, 3900 Forbes Ave\, Pittsburgh\, PA\, 15260\, United States
ATTACH;FMTTYPE=image/png:https://cgm.pitt.edu/wp-content/uploads/2024/10/Thumbnails-to-Update-Events-5.png
END:VEVENT
BEGIN:VEVENT
DTSTART;VALUE=DATE:20240919
DTEND;VALUE=DATE:20240922
DTSTAMP:20260419T120032
CREATED:20240821T054920Z
LAST-MODIFIED:20251029T145717Z
UID:638-1726704000-1726963199@cgm.pitt.edu
SUMMARY:WINIR 2024 Conference
DESCRIPTION:Date: September 19-21\, 2024 \nLocation: Pittsburgh\, PA\, USA \nThe Center for Governance and Markets (CGM) at the University of Pittsburgh is pleased to co-host the Ninth WINIR Conference: Institutional Resilience and Recovery\, organized in collaboration with the World Interdisciplinary Network for Institutional Research (WINIR). This conference will explore the resilience of governance systems and their ability to respond to and recover from crises such as economic downturns\, political instability\, and environmental calamities. Given recent global events\, the need for a deeper interdisciplinary understanding of how institutions rebuild and adapt in the face of crises is more critical than ever. \nConference Overview: \nThis event will focus on the processes and mechanisms through which institutions recover and adapt\, using Pittsburgh and the broader Rust Belt region as a case study of economic reinvention and social adaptation. The conference will feature a mix of empirical analyses\, theoretical advancements\, and case studies\, drawing parallels with Pittsburgh’s journey and offering contrasting narratives of change from around the world. \nKeynote Speakers: \nJennifer Lackey (Northwestern University\, USA)\nTymofiy Mylovanov (Kyiv School of Economics\, Ukraine & University of Pittsburgh\, USA) \nAdditional Information: \nThe conference will open in the afternoon of Thursday\, September 19\, and conclude with a dinner on Saturday\, September 21\, where the 2024 Elinor Ostrom Prize and the JOIE Reviewer of the Year Award will be announced. An optional tour will be available on Sunday\, September 22. \nThe conference will be preceded by a WINIR Young Scholars Workshop on Wednesday\, September 18\, with a separate call for papers to be circulated. \nOrganizing Committee: \nPaul Dragos Aligica: pdragos@mercatus.gmu.edu\nJennifer Brick Murtazashvili: jmurtaz@pitt.edu\nFrancesca Gagliardi: f.gagliardi@herts.ac.uk\nDavid Gindis: david.gindis@warwick.ac.uk\nLyndal Keeton: lyndal.keeton@wits.ac.za\nIlia Murtazashvili: ilia.murtazashvili@pitt.edu \nGenerous support for the WINIR Conference on Institutional Resilience and Recovery is provided by various partners and sponsors. \nFor more information\, visit the official WINIR 2024 event page or contact the organizing committee.
URL:https://cgm.pitt.edu/event/winir-2024-conference/
LOCATION:PA
ATTACH;FMTTYPE=image/png:https://cgm.pitt.edu/wp-content/uploads/2024/08/pitt-overlook.png
END:VEVENT
END:VCALENDAR